BEGIN:VCALENDAR
VERSION:2.0
PRODID:-//Lower Delaware USBCA - ECPv6.15.11//NONSGML v1.0//EN
CALSCALE:GREGORIAN
METHOD:PUBLISH
X-WR-CALNAME:Lower Delaware USBCA
X-ORIGINAL-URL:https://ldusbca.org
X-WR-CALDESC:Events for Lower Delaware USBCA
REFRESH-INTERVAL;VALUE=DURATION:PT1H
X-Robots-Tag:noindex
X-PUBLISHED-TTL:PT1H
BEGIN:VTIMEZONE
TZID:America/New_York
BEGIN:DAYLIGHT
TZOFFSETFROM:-0500
TZOFFSETTO:-0400
TZNAME:EDT
DTSTART:20220313T070000
END:DAYLIGHT
BEGIN:STANDARD
TZOFFSETFROM:-0400
TZOFFSETTO:-0500
TZNAME:EST
DTSTART:20221106T060000
END:STANDARD
BEGIN:DAYLIGHT
TZOFFSETFROM:-0500
TZOFFSETTO:-0400
TZNAME:EDT
DTSTART:20230312T070000
END:DAYLIGHT
BEGIN:STANDARD
TZOFFSETFROM:-0400
TZOFFSETTO:-0500
TZNAME:EST
DTSTART:20231105T060000
END:STANDARD
BEGIN:DAYLIGHT
TZOFFSETFROM:-0500
TZOFFSETTO:-0400
TZNAME:EDT
DTSTART:20240310T070000
END:DAYLIGHT
BEGIN:STANDARD
TZOFFSETFROM:-0400
TZOFFSETTO:-0500
TZNAME:EST
DTSTART:20241103T060000
END:STANDARD
END:VTIMEZONE
BEGIN:VEVENT
DTSTART;TZID=America/New_York:20231216T120000
DTEND;TZID=America/New_York:20231217T170000
DTSTAMP:20260421T132846
CREATED:20231112T194413Z
LAST-MODIFIED:20231112T212049Z
UID:1429-1702728000-1702832400@ldusbca.org
SUMMARY:Lower DE Adult Scotch Doubles Tournament @ Milford Lanes
DESCRIPTION:Lower Delaware Scotch Doubles:  location – Milford Lanes\nDates:  Dec 16 & 17 (2023)\n*** Subject to State & Local Regulations\nEntry form:
URL:https://ldusbca.org/event/lower-de-adult-scotch-doubles-tournament-milford-lanes/
LOCATION:Milford Lanes\, 809 North DuPont Boulevard\, Milford\, DE\, 19963\, United States
END:VEVENT
END:VCALENDAR